BEGIN:VCALENDAR
VERSION:2.0
PRODID:-// - ECPv6.15.20//NONSGML v1.0//EN
CALSCALE:GREGORIAN
METHOD:PUBLISH
X-ORIGINAL-URL:https://rollingforksvineyards.com
X-WR-CALDESC:Events for 
REFRESH-INTERVAL;VALUE=DURATION:PT1H
X-Robots-Tag:noindex
X-PUBLISHED-TTL:PT1H
BEGIN:VTIMEZONE
TZID:America/Chicago
BEGIN:DAYLIGHT
TZOFFSETFROM:-0600
TZOFFSETTO:-0500
TZNAME:CDT
DTSTART:20240310T080000
END:DAYLIGHT
BEGIN:STANDARD
TZOFFSETFROM:-0500
TZOFFSETTO:-0600
TZNAME:CST
DTSTART:20241103T070000
END:STANDARD
BEGIN:DAYLIGHT
TZOFFSETFROM:-0600
TZOFFSETTO:-0500
TZNAME:CDT
DTSTART:20250309T080000
END:DAYLIGHT
BEGIN:STANDARD
TZOFFSETFROM:-0500
TZOFFSETTO:-0600
TZNAME:CST
DTSTART:20251102T070000
END:STANDARD
BEGIN:DAYLIGHT
TZOFFSETFROM:-0600
TZOFFSETTO:-0500
TZNAME:CDT
DTSTART:20260308T080000
END:DAYLIGHT
BEGIN:STANDARD
TZOFFSETFROM:-0500
TZOFFSETTO:-0600
TZNAME:CST
DTSTART:20261101T070000
END:STANDARD
END:VTIMEZONE
BEGIN:VEVENT
DTSTART;TZID=America/Chicago:20250926T170000
DTEND;TZID=America/Chicago:20250926T200000
DTSTAMP:20260423T084545
CREATED:20250326T182502Z
LAST-MODIFIED:20250326T182502Z
UID:10001036-1758906000-1758916800@rollingforksvineyards.com
SUMMARY:Entertainmenty by Blonde and The Bohunk
DESCRIPTION:
URL:https://rollingforksvineyards.com/event/entertainmenty-by-blonde-and-the-bohunk/
LOCATION:Rolling Forks Vineyards\, 21505 SELNES ROAD\, GLENWOOD\, MN\, United States
ATTACH;FMTTYPE=image/jpeg:https://rollingforksvineyards.com/wp-content/uploads/2024/05/blonde-an-the-boo.jpg
END:VEVENT
BEGIN:VEVENT
DTSTART;TZID=America/Chicago:20250926T110000
DTEND;TZID=America/Chicago:20250928T190000
DTSTAMP:20260423T084545
CREATED:20250325T182422Z
LAST-MODIFIED:20250910T181000Z
UID:10000940-1758884400-1759086000@rollingforksvineyards.com
SUMMARY:Roll Out the Barrels Fall Festival 2025
DESCRIPTION:Friday through Sunday\nSeptember 26th -28th!\n\n\n\n\n\nGet ready to roll up your sleeves and uncork a weekend of fun! Our grapes have been harvested\, the barrels are ready\, and now it’s your turn to join the celebration. Get ready to sip\, relax and enjoy everything we have planned for you! \n\n\n \nSchedule of Events\nCORN MAZE\n11am-6pm \nFlashlight Maze 6-9pm: Get your Tickets Online Here & Save \nFACE PAINTING\nSaturday 2-4pm \nPUMPKIN PATCH\nYou-Pick or We-Pick! \nSCAVENGER HUNT\nAvailable from 11am Friday to 6pm Sunday \nMUSIC\nBlonde & the Bohunk Friday\, 5-8pm \nBen Stock Saturday 1-4pm \nIn Stereo Saturday 5-8pm \nBlue Red Roses Sunday 1-4pm \n\nVENDORS\nSaturday & Sunday\, Open 11am-7pm \nTo Register as a vendor CLICK HERE \n\n\nSales & Specials!\n\nAnd now for the best part. To help you stock up for the season\, we’re offering some special deals on these favorites:\n\n$5 Slushies all weekend!\nSave on Bottles of Wine:\n\nBuy 4 (or more!) bottles of wine and get entered into our grand prize drawing!\nBuy 6 bottles and save 5%\nBuy a case and save 10%\nJoin the wine club and save 20% on a case!\n\n\n50% OFF Select Merchandise!
URL:https://rollingforksvineyards.com/event/fall-festival-2025/
CATEGORIES:Festival,Harvest Activities,Live Music,On-Site Wine Tastings,Shopping,Vendor Fairs & Market Days,Winery and Vineyard Tours
ATTACH;FMTTYPE=image/png:https://rollingforksvineyards.com/wp-content/uploads/2025/03/Roll-Out-the-Barrels-20252.png
END:VEVENT
BEGIN:VEVENT
DTSTART;TZID=America/Chicago:20250925T170000
DTEND;TZID=America/Chicago:20250925T200000
DTSTAMP:20260423T084545
CREATED:20250905T205144Z
LAST-MODIFIED:20250905T205144Z
UID:10001109-1758819600-1758830400@rollingforksvineyards.com
SUMMARY:Blue Red Roses
DESCRIPTION:
URL:https://rollingforksvineyards.com/event/blue-red-roses-2/
LOCATION:Rolling Forks Vineyards\, 21505 SELNES ROAD\, GLENWOOD\, MN\, United States
CATEGORIES:Live Music
ATTACH;FMTTYPE=image/jpeg:https://rollingforksvineyards.com/wp-content/uploads/2024/01/161180931_118295813647278_6372714874742508690_n.jpg
END:VEVENT
BEGIN:VEVENT
DTSTART;TZID=America/Chicago:20250925T080000
DTEND;TZID=America/Chicago:20250925T170000
DTSTAMP:20260423T084545
CREATED:20250905T211026Z
LAST-MODIFIED:20250905T211026Z
UID:10001049-1758787200-1758819600@rollingforksvineyards.com
SUMMARY:Cruise & Views: Rolling Forks Roll-In
DESCRIPTION:Get ready to rumble! \nJoin us for our Rolling Forks Roll-In\, happening every 4th Thursday from May through August. \nRolling Forks Roll-In: Cruise & Views\nRev your engines and embark on a scenic cruise through the picturesque Lake Minnewaska area and along the stunning Glacial Ridge Trail. Experience the open road\, breathtaking landscapes\, and the camaraderie of fellow riders. \nAfter your ride\, wind your way to Rolling Forks Vineyards to park your iron horse and soak in the panoramic views of the very scenery you just conquered. Unwind\, relax\, and enjoy the fruits of our labor with a glass of our handcrafted wine. \nRiders can take photos of their bikes with the vineyard/lake views. Be sure to use #RollingForksRollIn when you share on social media. \nDon’t miss the Live Music and Happy Hour Specials! Get your discount on merchandise purchases for those who show their motorcycle key. \nMark your calendars for these dates (4th Thursdays): \nMay 22\nJune 26\nJuly 24\nAugust 28 \nMore than just a ride\, it’s an experience! We invite all motorcycle enthusiasts to join us for the Rolling Forks Roll-In. \n-Ample and easy-access parking.
URL:https://rollingforksvineyards.com/event/rolling-forks-roll-in-2/
LOCATION:Rolling Forks Vineyards\, 21505 SELNES ROAD\, GLENWOOD\, MN\, United States
ATTACH;FMTTYPE=image/png:https://rollingforksvineyards.com/wp-content/uploads/2025/04/Roll-In-Instagram-Post-45.png
END:VEVENT
BEGIN:VEVENT
DTSTART;TZID=America/Chicago:20250921T150000
DTEND;TZID=America/Chicago:20250921T190000
DTSTAMP:20260423T084545
CREATED:20250306T233127Z
LAST-MODIFIED:20250326T182358Z
UID:10001035-1758466800-1758481200@rollingforksvineyards.com
SUMMARY:Entertainment By Phil Bergib
DESCRIPTION:
URL:https://rollingforksvineyards.com/event/entertainment-by-phil-berdig/2025-09-21/
LOCATION:Rolling Forks Vineyards\, 21505 SELNES ROAD\, GLENWOOD\, MN\, United States
ATTACH;FMTTYPE=image/jpeg:https://rollingforksvineyards.com/wp-content/uploads/2025/03/phil-berging.jpg
END:VEVENT
BEGIN:VEVENT
DTSTART;TZID=America/Chicago:20250920T160000
DTEND;TZID=America/Chicago:20250920T190000
DTSTAMP:20260423T084545
CREATED:20250326T182307Z
LAST-MODIFIED:20250326T182307Z
UID:10001034-1758384000-1758394800@rollingforksvineyards.com
SUMMARY:Entertainment by Tim Fast
DESCRIPTION:
URL:https://rollingforksvineyards.com/event/entertainment-by-tim-fast/
LOCATION:Rolling Forks Vineyards\, 21505 SELNES ROAD\, GLENWOOD\, MN\, United States
ATTACH;FMTTYPE=image/jpeg:https://rollingforksvineyards.com/wp-content/uploads/2025/03/465002810_10162050872591812_7156444525591466039_n.jpg
END:VEVENT
BEGIN:VEVENT
DTSTART;TZID=America/Chicago:20250919T160000
DTEND;TZID=America/Chicago:20250919T190000
DTSTAMP:20260423T084545
CREATED:20250326T160317Z
LAST-MODIFIED:20250326T182051Z
UID:10001033-1758297600-1758308400@rollingforksvineyards.com
SUMMARY:Entertainment by Donny Brang
DESCRIPTION:
URL:https://rollingforksvineyards.com/event/entertainment-by-donny-brang/2025-09-19/
ATTACH;FMTTYPE=image/jpeg:https://rollingforksvineyards.com/wp-content/uploads/2024/01/Donny-Brang-rotated.jpg
END:VEVENT
BEGIN:VEVENT
DTSTART;TZID=America/Chicago:20250918T190000
DTEND;TZID=America/Chicago:20250918T210000
DTSTAMP:20260423T084545
CREATED:20250910T170219Z
LAST-MODIFIED:20250910T170219Z
UID:10001114-1758222000-1758229200@rollingforksvineyards.com
SUMMARY:Star Party 2025
DESCRIPTION:Join us for the Bell Museum’s sixth annual Statewide Star Party. This year’s theme\, Aurora Voyage: Chasing the Northern Lights\, is an invitation to celebrate the beauty of Minnesota’s northern skies and learn more about this beloved phenomena. Every star party will celebrate their own interpretation of this theme in unique\, fun and exciting ways!\nThere will be a museum representative on site from 7pm-9pm They will be pointing out some visible night sky objects and will have some talking points about aurora but they are not expected to prepare a full presentation or talk.\nNote: Telescopes will not be able to operate under rainy weather conditions.
URL:https://rollingforksvineyards.com/event/star-party-2025/
LOCATION:Rolling Forks Vineyards\, 21505 SELNES ROAD\, GLENWOOD\, MN\, United States
CATEGORIES:Educational Experience
ATTACH;FMTTYPE=image/gif:https://rollingforksvineyards.com/wp-content/uploads/2025/09/Aurora-X3_hero_1500x575.gif
END:VEVENT
BEGIN:VEVENT
DTSTART;TZID=America/Chicago:20250914T120000
DTEND;TZID=America/Chicago:20250914T140000
DTSTAMP:20260423T084545
CREATED:20250326T153357Z
LAST-MODIFIED:20250326T182007Z
UID:10001032-1757851200-1757858400@rollingforksvineyards.com
SUMMARY:Entertainment by Brooklyn
DESCRIPTION:
URL:https://rollingforksvineyards.com/event/entertainment-by-brooklyn-2/2025-09-14/
ATTACH;FMTTYPE=image/jpeg:https://rollingforksvineyards.com/wp-content/uploads/2024/09/Screenshot-2024-09-09-095609.jpg
END:VEVENT
BEGIN:VEVENT
DTSTART;TZID=America/Chicago:20250913T160000
DTEND;TZID=America/Chicago:20250913T190000
DTSTAMP:20260423T084545
CREATED:20250326T181924Z
LAST-MODIFIED:20250326T182617Z
UID:10001031-1757779200-1757790000@rollingforksvineyards.com
SUMMARY:Entertainment by Terry Neson Band
DESCRIPTION:
URL:https://rollingforksvineyards.com/event/entertainment-by-terry-neson-band/2025-09-13/
LOCATION:Rolling Forks Vineyards\, 21505 SELNES ROAD\, GLENWOOD\, MN\, United States
ATTACH;FMTTYPE=image/jpeg:https://rollingforksvineyards.com/wp-content/uploads/2024/02/69451044_10156843717533842_5714512944344072192_o.jpg
END:VEVENT
BEGIN:VEVENT
DTSTART;TZID=America/Chicago:20250912T170000
DTEND;TZID=America/Chicago:20250912T200000
DTSTAMP:20260423T084545
CREATED:20250326T155311Z
LAST-MODIFIED:20250326T181731Z
UID:10001030-1757696400-1757707200@rollingforksvineyards.com
SUMMARY:Entertainment by Rhythm & Rhyme
DESCRIPTION:
URL:https://rollingforksvineyards.com/event/entertainment-by-rhythm-rhyme-2/2025-09-12/
ATTACH;FMTTYPE=image/jpeg:https://rollingforksvineyards.com/wp-content/uploads/2025/03/456243028_1088524022746281_7229447094161074063_n.jpg
END:VEVENT
BEGIN:VEVENT
DTSTART;TZID=America/Chicago:20250907T150000
DTEND;TZID=America/Chicago:20250907T190000
DTSTAMP:20260423T084545
CREATED:20250227T210121Z
LAST-MODIFIED:20250326T181635Z
UID:10001029-1757257200-1757271600@rollingforksvineyards.com
SUMMARY:Entertainment By Duck Zecco
DESCRIPTION:
URL:https://rollingforksvineyards.com/event/entertainment-by-duck-zecco/2025-09-07/
LOCATION:Rolling Forks Vineyards\, 21505 SELNES ROAD\, GLENWOOD\, MN\, United States
ATTACH;FMTTYPE=image/jpeg:https://rollingforksvineyards.com/wp-content/uploads/2024/01/Duke-Zucco-1.jpg
END:VEVENT
BEGIN:VEVENT
DTSTART;TZID=America/Chicago:20250906T170000
DTEND;TZID=America/Chicago:20250906T200000
DTSTAMP:20260423T084545
CREATED:20250306T233127Z
LAST-MODIFIED:20250326T182358Z
UID:10001028-1757178000-1757188800@rollingforksvineyards.com
SUMMARY:Entertainment By Phil Bergib
DESCRIPTION:
URL:https://rollingforksvineyards.com/event/entertainment-by-phil-berdig/2025-09-06/
LOCATION:Rolling Forks Vineyards\, 21505 SELNES ROAD\, GLENWOOD\, MN\, United States
ATTACH;FMTTYPE=image/jpeg:https://rollingforksvineyards.com/wp-content/uploads/2025/03/phil-berging.jpg
END:VEVENT
BEGIN:VEVENT
DTSTART;TZID=America/Chicago:20250905T180000
DTEND;TZID=America/Chicago:20250905T200000
DTSTAMP:20260423T084545
CREATED:20250306T233553Z
LAST-MODIFIED:20250326T181310Z
UID:10001027-1757095200-1757102400@rollingforksvineyards.com
SUMMARY:Entertainment By Strange New Grove
DESCRIPTION:
URL:https://rollingforksvineyards.com/event/entertainment-by-strange-new-grove/2025-09-05/
END:VEVENT
BEGIN:VEVENT
DTSTART;TZID=America/Chicago:20250901T110000
DTEND;TZID=America/Chicago:20251031T190000
DTSTAMP:20260423T084545
CREATED:20250325T185629Z
LAST-MODIFIED:20250729T174142Z
UID:10000941-1756724400-1761937200@rollingforksvineyards.com
SUMMARY:Corn Maze
DESCRIPTION:Welcome to our corn maze which spans 11 acres of lush corn fields!\nOPEN: Labor Day through Halloween – Come get lost with us from 11am-7pm  Thursday\, Friday\, Saturday\, Sunday\, and Monday (CLOSED Tuesdays and Wednesdays)\nCOST: $10/Adult | $5/5-16 years | Free for kids 4 & under. \n \nChildren 12 and under should ALWAYS be accompanied by an adult. \nPlease use the restrooms in the Tasting Room before venturing into the maze. \nAs you enter our maze you become surrounded by 8-9 ft stalks of corn\, but do not fear!  As you progress through your journey you will find signs to help guide your path. ​ \nThis corn is not of the human eating variety\, instead it is a feed corn. For that reason\, it is imperative that each ear remains on the stalk in order for us to harvest it.  We ask that those that visit our maze respect our crop by not picking the ears on your way through\, and by not cutting through the stalks of corn\, which can knock the ears of corn to the ground. We do grow You-Pick Sweet Corn in a area near by.\n \nDress for the maze like you would for any other outdoor activity. Make sure you have a sweatshirt on cool days or a rain jacket if the forecast dictates. There is not any shade in the maze\, so it’s a good idea to wear a hat on sunny days. Remember that you will be in a cornfield and even though the trails are compact\, your footwear will get dirty. Depending on your walking pace and the size of your group you could be in the maze for a couple of hours. Also\, don’t forget the sunscreen! \nFor the safety of other visitors and your pet\, no pets are allowed. \nSmoking is not permitted ANYWHERE in the maze. \n​Once you complete your journey you will be welcomed back at the Tasting Room to celebrate your success.  We look forward to sharing our farm with you this fall! \n\nRolling Forks Vineyards is a working farm and we are not responsible for personal injury.‍
URL:https://rollingforksvineyards.com/event/corn-maze/
CATEGORIES:Harvest Activities
ATTACH;FMTTYPE=image/png:https://rollingforksvineyards.com/wp-content/uploads/2025/03/CornMaze-Event-Image-6-x-4-in.png
END:VEVENT
BEGIN:VEVENT
DTSTART;TZID=America/Chicago:20250830T170000
DTEND;TZID=America/Chicago:20250830T200000
DTSTAMP:20260423T084545
CREATED:20241109T002018Z
LAST-MODIFIED:20250326T181217Z
UID:10001026-1756573200-1756584000@rollingforksvineyards.com
SUMMARY:Entertainment by Kyle Colby
DESCRIPTION:
URL:https://rollingforksvineyards.com/event/music-by-kyle-colby-5/2025-08-30/
LOCATION:Patio
ATTACH;FMTTYPE=image/jpeg:https://rollingforksvineyards.com/wp-content/uploads/2024/07/451476283_1036436848481928_4046767912347498224_n.jpg
END:VEVENT
BEGIN:VEVENT
DTSTART;TZID=America/Chicago:20250830T110000
DTEND;TZID=America/Chicago:20250830T210000
DTSTAMP:20260423T084545
CREATED:20250820T151923Z
LAST-MODIFIED:20250825T150553Z
UID:10001099-1756551600-1756587600@rollingforksvineyards.com
SUMMARY:MN Wine Day at RFV
DESCRIPTION:MN Wine Day 2025! \nWe’re thrilled to celebrate Minnesota Wine Day – a day dedicated to showcasing the amazing wines\, events\, and experiences that MN wineries have to offer. The Minnesota Wine and Grape Alliance has made it easy to explore with an updated winery list\, so you can make the most of your wine adventure!\n If your journey brings you our way\, we’d love to welcome you! Join us for an unforgettable day featuring:\n Live music from 5pm-8pm by the incredibly talented Kyle Colby\n All your favorite wine and food options from our menu\n A special wine deal: Buy 4 or more bottles and get entered into a drawing for a fun gift box!\n Other one-day wine specials to be announced soon!Please note: No other coupons\, certificates\, or discounts apply.\n We’re also excited to announce a soft opening of our corn maze this weekend – weather permitting! Come get a sneak peek: Saturday 8/30 & Sunday 8/31 | 11am–7pm\n We will be CLOSED on Labor Day (Monday 9/2)\n Corn Maze Admission:Adults (18+): $10Kids (5–17): $5\nAges 4 & under: FreePay in the Tasting Room or via Venmo QR code posted at the maze entrance (honor system applies).\n Show your support for MN wine! Tag @mnwineday and our page in your photos and stories to help spread the love for local wine and small businesses like ours.\nThank you for supporting Minnesota wineries – we couldn’t do what we love without you!\n\nCheers to MN Wine!  \nSee less
URL:https://rollingforksvineyards.com/event/mn-wine-day-at-rfv/
LOCATION:Rolling Forks Vineyards\, 21505 SELNES ROAD\, GLENWOOD\, MN\, United States
CATEGORIES:Festival
ATTACH;FMTTYPE=image/png:https://rollingforksvineyards.com/wp-content/uploads/2025/08/Image20250723093043.png
END:VEVENT
BEGIN:VEVENT
DTSTART;TZID=America/Chicago:20250829T180000
DTEND;TZID=America/Chicago:20250829T200000
DTSTAMP:20260423T084545
CREATED:20250324T181702Z
LAST-MODIFIED:20250326T181137Z
UID:10001025-1756490400-1756497600@rollingforksvineyards.com
SUMMARY:Entertainment by Riley Spidler
DESCRIPTION:
URL:https://rollingforksvineyards.com/event/entertainment-by-riley-spidler/2025-08-29/
LOCATION:Rolling Forks Vineyards\, 21505 SELNES ROAD\, GLENWOOD\, MN\, United States
ATTACH;FMTTYPE=image/jpeg:https://rollingforksvineyards.com/wp-content/uploads/2022/07/image000000-1-e1659122284288.jpg
END:VEVENT
BEGIN:VEVENT
DTSTART;TZID=America/Chicago:20250824T150000
DTEND;TZID=America/Chicago:20250824T180000
DTSTAMP:20260423T084545
CREATED:20250306T235658Z
LAST-MODIFIED:20250326T181025Z
UID:10001024-1756047600-1756058400@rollingforksvineyards.com
SUMMARY:Entertainment by Mark Yannie
DESCRIPTION:
URL:https://rollingforksvineyards.com/event/entertainment-by-mark-yannie/2025-08-24/
ATTACH;FMTTYPE=image/jpeg:https://rollingforksvineyards.com/wp-content/uploads/2025/03/bio-headshot-py-002.jpg
END:VEVENT
BEGIN:VEVENT
DTSTART;TZID=America/Chicago:20250823T170000
DTEND;TZID=America/Chicago:20250823T200000
DTSTAMP:20260423T084545
CREATED:20250114T001145Z
LAST-MODIFIED:20250326T180801Z
UID:10000921-1755968400-1755979200@rollingforksvineyards.com
SUMMARY:Entertainment With Jackson Burns Duo
DESCRIPTION:
URL:https://rollingforksvineyards.com/event/entertainment-with-jackson-burns-duo/
LOCATION:Patio
CATEGORIES:On-Site Wine Tastings,Shopping
ATTACH;FMTTYPE=image/jpeg:https://rollingforksvineyards.com/wp-content/uploads/2025/03/31524708_10215691918841721_2106607950322728960_n.jpg
END:VEVENT
BEGIN:VEVENT
DTSTART;TZID=America/Chicago:20250822T170000
DTEND;TZID=America/Chicago:20250822T200000
DTSTAMP:20260423T084545
CREATED:20250326T170743Z
LAST-MODIFIED:20250326T180639Z
UID:10001023-1755882000-1755892800@rollingforksvineyards.com
SUMMARY:Entertainment by Matthew Aitch
DESCRIPTION:
URL:https://rollingforksvineyards.com/event/entertainment-by-matthew-aitch/2025-08-22/
LOCATION:Rolling Forks Vineyards\, 21505 SELNES ROAD\, GLENWOOD\, MN\, United States
ATTACH;FMTTYPE=image/jpeg:https://rollingforksvineyards.com/wp-content/uploads/2025/03/478215652_122207810048213653_9006119531588133871_n.jpg
END:VEVENT
BEGIN:VEVENT
DTSTART;TZID=America/Chicago:20250821T173000
DTEND;TZID=America/Chicago:20250821T190000
DTSTAMP:20260423T084545
CREATED:20250730T151830Z
LAST-MODIFIED:20250731T204625Z
UID:10001097-1755797400-1755802800@rollingforksvineyards.com
SUMMARY:Plant-ingo
DESCRIPTION:🌿 Plant-ingo Night! 🌿Hosted by Kristy’s Succulent Kreations  & Rolling Forks Vineyards \nReady to grow your luck? Join us for a blooming good time at Plant-ingo — it’s like the traditional game\, but with more petals and prizes! \n🎉 What’s in store?Classic fun with a botanical twist! Each round gives you the chance to win fabulous plant-themed prizes (yep\, real plants you can take home and talk to). We will have 2 winners per round! \n🧀🍷 Come early to grab some pizza & wine\, or enjoy goodies from the Tasting Room and kitchen throughout the evening. \n🖊️ Don’t forget your daubers or a funky marker — we like to keep it colorful! \n👯‍♀️ Bring your friends\, bring your family\, bring your green thumbs. \nLet’s get leafy\, let’s get lucky\, let’s play Plant-ingo!
URL:https://rollingforksvineyards.com/event/plant-ingo/
LOCATION:Rolling Forks Vineyards\, 21505 SELNES ROAD\, GLENWOOD\, MN\, United States
CATEGORIES:Crafts, Classes, and Games
ATTACH;FMTTYPE=image/jpeg:https://rollingforksvineyards.com/wp-content/uploads/2025/07/523090537_724910400459512_1442087123118230195_n.jpg
END:VEVENT
BEGIN:VEVENT
DTSTART;TZID=America/Chicago:20250819T080000
DTEND;TZID=America/Chicago:20250819T170000
DTSTAMP:20260423T084545
CREATED:20250819T154752Z
LAST-MODIFIED:20250819T154752Z
UID:10001098-1755590400-1755622800@rollingforksvineyards.com
SUMMARY:Sourdough 101 with Hello Simple
DESCRIPTION:Get ready to get your hands delightfully flour-dusted! Join us for a fun\, hands-on sourdough workshop at Rolling Forks Vineyards. You’ll dive into the art of making your own sourdough bread from scratch\, complete with expert tips and tricks to guide you through the whole process. \nAs a bonus\, you’ll enjoy a free drink from Rolling Forks! You’ll also leave class with dough to bake at home\, and some of our well-established\, 106-year-old sourdough starter. \nPlease bring: a large mixing bowl and dish towel. \nReserve your spot here: https://app.acuityscheduling.com/schedule/0478c840/?appointmentTypeIds[]=82098889 \n2 hour class for $79.00
URL:https://rollingforksvineyards.com/event/sourdough-101-with-hello-simple/
LOCATION:Rolling Forks Vineyards\, 21505 SELNES ROAD\, GLENWOOD\, MN\, United States
CATEGORIES:Crafts, Classes, and Games,Educational Experience
ATTACH;FMTTYPE=image/jpeg:https://rollingforksvineyards.com/wp-content/uploads/2025/08/AdobeStock_230630023-scaled.jpeg
END:VEVENT
BEGIN:VEVENT
DTSTART;TZID=America/Chicago:20250817T130000
DTEND;TZID=America/Chicago:20250817T160000
DTSTAMP:20260423T084545
CREATED:20250326T180553Z
LAST-MODIFIED:20250326T180553Z
UID:10001022-1755435600-1755446400@rollingforksvineyards.com
SUMMARY:Waska Wine Club pick up
DESCRIPTION:
URL:https://rollingforksvineyards.com/event/waska-wine-club-pick-up/
CATEGORIES:On-Site Wine Tastings,Shopping,Waska Wine Club Pick-up
ATTACH;FMTTYPE=image/png:https://rollingforksvineyards.com/wp-content/uploads/2024/10/Wood-Box.png
END:VEVENT
BEGIN:VEVENT
DTSTART;TZID=America/Chicago:20250817T130000
DTEND;TZID=America/Chicago:20250817T160000
DTSTAMP:20260423T084545
CREATED:20250326T155311Z
LAST-MODIFIED:20250326T181731Z
UID:10001021-1755435600-1755446400@rollingforksvineyards.com
SUMMARY:Entertainment by Rhythm & Rhyme
DESCRIPTION:
URL:https://rollingforksvineyards.com/event/entertainment-by-rhythm-rhyme-2/2025-08-17/
ATTACH;FMTTYPE=image/jpeg:https://rollingforksvineyards.com/wp-content/uploads/2025/03/456243028_1088524022746281_7229447094161074063_n.jpg
END:VEVENT
BEGIN:VEVENT
DTSTART;TZID=America/Chicago:20250816T170000
DTEND;TZID=America/Chicago:20250816T200000
DTSTAMP:20260423T084545
CREATED:20241109T001743Z
LAST-MODIFIED:20250326T180351Z
UID:10001020-1755363600-1755374400@rollingforksvineyards.com
SUMMARY:Entertainment by Terry Mackner
DESCRIPTION:
URL:https://rollingforksvineyards.com/event/music-by-terry-macker-2/2025-08-16/
LOCATION:Patio
ATTACH;FMTTYPE=image/jpeg:https://rollingforksvineyards.com/wp-content/uploads/2022/02/117336322_296228281639149_1820313054875225340_n.jpg
END:VEVENT
BEGIN:VEVENT
DTSTART;TZID=America/Chicago:20250815T170000
DTEND;TZID=America/Chicago:20250815T200000
DTSTAMP:20260423T084545
CREATED:20250326T170915Z
LAST-MODIFIED:20250326T180301Z
UID:10001019-1755277200-1755288000@rollingforksvineyards.com
SUMMARY:Entertainment by Anthony Miltich
DESCRIPTION:
URL:https://rollingforksvineyards.com/event/entertainment-by-anthony-miltich/2025-08-15/
LOCATION:Rolling Forks Vineyards\, 21505 SELNES ROAD\, GLENWOOD\, MN\, United States
ATTACH;FMTTYPE=image/jpeg:https://rollingforksvineyards.com/wp-content/uploads/2024/07/451556424_909563147881204_906936321601629506_n.jpg
END:VEVENT
BEGIN:VEVENT
DTSTART;TZID=America/Chicago:20250814T170000
DTEND;TZID=America/Chicago:20250814T200000
DTSTAMP:20260423T084545
CREATED:20250325T190215Z
LAST-MODIFIED:20250728T170224Z
UID:10000942-1755190800-1755201600@rollingforksvineyards.com
SUMMARY:Harvest Dinner 2025
DESCRIPTION:Prepare for an unforgettable experience as we invite you to our highly anticipated 5th Annual Harvest Dinner. This beloved tradition brings together discerning palates for an evening of culinary delight and camaraderie under the painted evening sky. \nThe evening begins with a pour of our award-winning wine. Mingle and savor some light bites around our adorned harvest tables. Then we will gather for the plated meal\, perfectly complemented by four hand-selected wine pairings from our owners. The evening culminates with a decadent dessert and a comforting nightcap\, ensuring a truly memorable close. As a special gesture\, you’ll also have access to exclusive discounts on our exceptional bottle sales. \n\nWine Club Members enjoy a $10 reduction on their ticket price. Join HERE; there is no fee with a one-year commitment! \n\n \nThe Harvest Dinner Menu\n  \n\nAppetizers: Artisanal Breads from Full Circle Farm\, Gourmet Dips\, and Crisp\, Fresh Vegetables\nMain Course (Choice of): Pan-Seared Walleye or Seared Chicken with Savory Mushroom Sauce\nAccompaniments: Baby Red Potatoes\, Freshly Baked Ciabatta Buns from Full Circle Farm\, and a Vibrant Garden Salad\nDessert: Rich and Creamy Cheesecake by U.G.L.Y Cheesecake Co. in Brainerd.\n\nCatering for this distinguished event is proudly provided by Lakes Catering of Glenwood\, renowned for their commitment to culinary excellence.
URL:https://rollingforksvineyards.com/event/harvest-dinner-2025/
CATEGORIES:Harvest Activities,Specialty Dinners
ATTACH;FMTTYPE=image/jpeg:https://rollingforksvineyards.com/wp-content/uploads/2024/12/rolling-forks-vineyards-table-wines.jpg
END:VEVENT
BEGIN:VEVENT
DTSTART;TZID=America/Chicago:20250810T150000
DTEND;TZID=America/Chicago:20250810T180000
DTSTAMP:20260423T084545
CREATED:20250307T000039Z
LAST-MODIFIED:20250620T154942Z
UID:10001018-1754838000-1754848800@rollingforksvineyards.com
SUMMARY:Entertainment By Cheese Bots
DESCRIPTION:
URL:https://rollingforksvineyards.com/event/entertainment-by-cheese-bots/2025-08-10/
LOCATION:Rolling Forks Vineyards\, 21505 SELNES ROAD\, GLENWOOD\, MN\, United States
CATEGORIES:On-Site Wine Tastings,Shopping
ATTACH;FMTTYPE=image/jpeg:https://rollingforksvineyards.com/wp-content/uploads/2025/03/cheesebots.jpg
END:VEVENT
BEGIN:VEVENT
DTSTART;TZID=America/Chicago:20250809T170000
DTEND;TZID=America/Chicago:20250809T210000
DTSTAMP:20260423T084545
CREATED:20250324T184652Z
LAST-MODIFIED:20250326T180134Z
UID:10001017-1754758800-1754773200@rollingforksvineyards.com
SUMMARY:Entertainment By in Stereo
DESCRIPTION:
URL:https://rollingforksvineyards.com/event/entertainment-by-in-stereo-2/2025-08-09/
LOCATION:Rolling Forks Vineyards\, 21505 SELNES ROAD\, GLENWOOD\, MN\, United States
ATTACH;FMTTYPE=image/jpeg:https://rollingforksvineyards.com/wp-content/uploads/2024/01/In-Stereo.jpg
END:VEVENT
END:VCALENDAR