BEGIN:VCALENDAR
VERSION:2.0
PRODID:-// - ECPv6.15.20//NONSGML v1.0//EN
CALSCALE:GREGORIAN
METHOD:PUBLISH
X-ORIGINAL-URL:https://rollingforksvineyards.com
X-WR-CALDESC:Events for 
REFRESH-INTERVAL;VALUE=DURATION:PT1H
X-Robots-Tag:noindex
X-PUBLISHED-TTL:PT1H
BEGIN:VTIMEZONE
TZID:America/Chicago
BEGIN:DAYLIGHT
TZOFFSETFROM:-0600
TZOFFSETTO:-0500
TZNAME:CDT
DTSTART:20250309T080000
END:DAYLIGHT
BEGIN:STANDARD
TZOFFSETFROM:-0500
TZOFFSETTO:-0600
TZNAME:CST
DTSTART:20251102T070000
END:STANDARD
BEGIN:DAYLIGHT
TZOFFSETFROM:-0600
TZOFFSETTO:-0500
TZNAME:CDT
DTSTART:20260308T080000
END:DAYLIGHT
BEGIN:STANDARD
TZOFFSETFROM:-0500
TZOFFSETTO:-0600
TZNAME:CST
DTSTART:20261101T070000
END:STANDARD
BEGIN:DAYLIGHT
TZOFFSETFROM:-0600
TZOFFSETTO:-0500
TZNAME:CDT
DTSTART:20270314T080000
END:DAYLIGHT
BEGIN:STANDARD
TZOFFSETFROM:-0500
TZOFFSETTO:-0600
TZNAME:CST
DTSTART:20271107T070000
END:STANDARD
END:VTIMEZONE
BEGIN:VEVENT
DTSTART;TZID=America/Chicago:20260926T170000
DTEND;TZID=America/Chicago:20260926T200000
DTSTAMP:20260423T035711
CREATED:20260106T145550Z
LAST-MODIFIED:20260106T174400Z
UID:10001341-1790442000-1790452800@rollingforksvineyards.com
SUMMARY:Music: Kyle Colby
DESCRIPTION:Unwind with Live Music and Exceptional Wine\nLooking for the perfect way to spend your afternoon in the Glenwood/Alexandria Lakes Area? There is nothing quite like the combination of a glass of estate-grown\, award-winning wine and the sound of local artists performing live. At Rolling Forks Vineyards\, we host a rotating lineup of the region’s best musicians\, offering everything from acoustic folk and jazz to soulful blues. \nThe Experience: More Than Just a Concert\nOur live music events are designed for those who appreciate a relaxed\, sophisticated atmosphere. Whether you’re seated on our scenic outdoor patio overlooking the vineyards or cozying up in our tasting room\, you’ll enjoy: \n\nAward-Winning Wines: Sip on our signature Lady Slipper or try a curated wine flight.\nLocal Talent: We curate a diverse calendar of singers and songwriters from across Minnesota.\nFull Menu: Pair your wine with our locally sourced charcuterie boards or artisanal pizzas.\nFamily Friendly: Our venue is the perfect spot for the whole crew.\n\nPlan Your Visit\nLocation: 21505 Selnes Rd\, Glenwood\, MN 56334 \nCall Ahead: For groups of more than 8\, please call ahead. 320-634-7655 \nAdmission: Free \nNestled on the scenic glacial ridges overlooking Lake Minnewaska\, we are a premier destination in the heart of Central Minnesota. \nEasy to Reach from Greater Minnesota Our vineyard is a convenient and scenic drive from several major Minnesota hubs: \n\nAlexandria: Just 25 minutes south via MN-29.\nSt. Cloud: Roughly 1 hour west via Hwy 28 or I-94.\nFergus Falls: About 50 minutes southeast.\nTwin Cities: A straightforward 2-hour drive from the metro area.\n\nMake it a Weekend Traveling from out of town? Don’t rush home! Turn your experience into a holiday getaway. The Glenwood and Alexandria areas offer charming accommodations\, from lakeside hotels to cozy Bed & Breakfasts. \nParking: We offer ample free on-site parking for all event guests.
URL:https://rollingforksvineyards.com/event/music-kyle-colby/
LOCATION:MN
CATEGORIES:Live Music
END:VEVENT
BEGIN:VEVENT
DTSTART;TZID=America/Chicago:20260927T080000
DTEND;TZID=America/Chicago:20260927T170000
DTSTAMP:20260423T035711
CREATED:20251023T215249Z
LAST-MODIFIED:20251023T215249Z
UID:10001133-1790496000-1790528400@rollingforksvineyards.com
SUMMARY:Roll out the Barrels
DESCRIPTION:
URL:https://rollingforksvineyards.com/event/roll-out-the-barrels-2/
LOCATION:Rolling Forks Vineyards\, 21505 SELNES ROAD\, GLENWOOD\, MN\, United States
CATEGORIES:Live Music,Shopping
ATTACH;FMTTYPE=image/jpeg:https://rollingforksvineyards.com/wp-content/uploads/2025/07/15RollingForksDrone-scaled.jpg
END:VEVENT
BEGIN:VEVENT
DTSTART;TZID=America/Chicago:20260927T180000
DTEND;TZID=America/Chicago:20260927T210000
DTSTAMP:20260423T035711
CREATED:20251223T182425Z
LAST-MODIFIED:20251223T182917Z
UID:10001342-1790532000-1790542800@rollingforksvineyards.com
SUMMARY:Music: Blue Red Roses
DESCRIPTION:Unwind with Live Music and Exceptional Wine\nLooking for the perfect way to spend your afternoon in the Glenwood/Alexandria Lakes Area? There is nothing quite like the combination of a glass of estate-grown\, award-winning wine and the sound of local artists performing live. At Rolling Forks Vineyards\, we host a rotating lineup of the region’s best musicians\, offering everything from acoustic folk and jazz to soulful blues. \nThe Experience: More Than Just a Concert\nOur live music events are designed for those who appreciate a relaxed\, sophisticated atmosphere. Whether you’re seated on our scenic outdoor patio overlooking the vineyards or cozying up in our tasting room\, you’ll enjoy: \n\n\nAward-Winning Wines: Sip on our signature Lady Slipper or try a curated wine flight. \n\n\nLocal Talent: We curate a diverse calendar of singers and songwriters from across Minnesota. \n\n\nFull Menu: Pair your wine with our locally sourced charcuterie boards or artisanal pizzas. \n\n\nFamily Friendly: Our venue is the perfect spot for the whole crew. \n\n\nPlan Your Visit\nLocation: 21505 Selnes Rd\, Glenwood\, MN 56334 \nCall Ahead: For groups of more than 8\, please call ahead. 320-634-7655 \nAdmission: Free \nNestled on the scenic glacial ridges overlooking Lake Minnewaska\, we are a premier destination in the heart of Central Minnesota. \nEasy to Reach from Greater Minnesota Our vineyard is a convenient and scenic drive from several major Minnesota hubs: \n\n\nAlexandria: Just 25 minutes south via MN-29. \n\n\nSt. Cloud: Roughly 1 hour west via Hwy 28 or I-94. \n\n\nFergus Falls: About 50 minutes southeast. \n\n\nTwin Cities: A straightforward 2-hour drive from the metro area. \n\n\nMake it a Weekend Traveling from out of town? Don’t rush home! Turn your experience into a holiday getaway. The Glenwood and Alexandria areas offer charming accommodations\, from lakeside hotels to cozy Bed & Breakfasts. \nParking: We offer ample free on-site parking for all event guests.
URL:https://rollingforksvineyards.com/event/music-blue-red-roses-3/
LOCATION:Rolling Forks Vineyards\, 21505 SELNES ROAD\, GLENWOOD\, MN\, United States
CATEGORIES:Live Music
ATTACH;FMTTYPE=image/jpeg:https://rollingforksvineyards.com/wp-content/uploads/2025/12/blue-red-roses.jpg
END:VEVENT
END:VCALENDAR