BEGIN:VCALENDAR
VERSION:2.0
PRODID:-// - ECPv6.15.20//NONSGML v1.0//EN
CALSCALE:GREGORIAN
METHOD:PUBLISH
X-ORIGINAL-URL:https://rollingforksvineyards.com
X-WR-CALDESC:Events for 
REFRESH-INTERVAL;VALUE=DURATION:PT1H
X-Robots-Tag:noindex
X-PUBLISHED-TTL:PT1H
BEGIN:VTIMEZONE
TZID:America/Chicago
BEGIN:DAYLIGHT
TZOFFSETFROM:-0600
TZOFFSETTO:-0500
TZNAME:CDT
DTSTART:20240310T080000
END:DAYLIGHT
BEGIN:STANDARD
TZOFFSETFROM:-0500
TZOFFSETTO:-0600
TZNAME:CST
DTSTART:20241103T070000
END:STANDARD
BEGIN:DAYLIGHT
TZOFFSETFROM:-0600
TZOFFSETTO:-0500
TZNAME:CDT
DTSTART:20250309T080000
END:DAYLIGHT
BEGIN:STANDARD
TZOFFSETFROM:-0500
TZOFFSETTO:-0600
TZNAME:CST
DTSTART:20251102T070000
END:STANDARD
BEGIN:DAYLIGHT
TZOFFSETFROM:-0600
TZOFFSETTO:-0500
TZNAME:CDT
DTSTART:20260308T080000
END:DAYLIGHT
BEGIN:STANDARD
TZOFFSETFROM:-0500
TZOFFSETTO:-0600
TZNAME:CST
DTSTART:20261101T070000
END:STANDARD
END:VTIMEZONE
BEGIN:VEVENT
DTSTART;TZID=America/Chicago:20250817T130000
DTEND;TZID=America/Chicago:20250817T160000
DTSTAMP:20260423T114409
CREATED:20250326T155311Z
LAST-MODIFIED:20250326T181731Z
UID:10001021-1755435600-1755446400@rollingforksvineyards.com
SUMMARY:Entertainment by Rhythm & Rhyme
DESCRIPTION:
URL:https://rollingforksvineyards.com/event/entertainment-by-rhythm-rhyme-2/2025-08-17/
LOCATION:MN
ATTACH;FMTTYPE=image/jpeg:https://rollingforksvineyards.com/wp-content/uploads/2025/03/456243028_1088524022746281_7229447094161074063_n.jpg
END:VEVENT
BEGIN:VEVENT
DTSTART;TZID=America/Chicago:20250816T170000
DTEND;TZID=America/Chicago:20250816T200000
DTSTAMP:20260423T114409
CREATED:20241109T001743Z
LAST-MODIFIED:20250326T180351Z
UID:10001020-1755363600-1755374400@rollingforksvineyards.com
SUMMARY:Entertainment by Terry Mackner
DESCRIPTION:
URL:https://rollingforksvineyards.com/event/music-by-terry-macker-2/2025-08-16/
LOCATION:Patio
ATTACH;FMTTYPE=image/jpeg:https://rollingforksvineyards.com/wp-content/uploads/2022/02/117336322_296228281639149_1820313054875225340_n.jpg
END:VEVENT
BEGIN:VEVENT
DTSTART;TZID=America/Chicago:20250815T170000
DTEND;TZID=America/Chicago:20250815T200000
DTSTAMP:20260423T114409
CREATED:20250326T170915Z
LAST-MODIFIED:20250326T180301Z
UID:10001019-1755277200-1755288000@rollingforksvineyards.com
SUMMARY:Entertainment by Anthony Miltich
DESCRIPTION:
URL:https://rollingforksvineyards.com/event/entertainment-by-anthony-miltich/2025-08-15/
LOCATION:Rolling Forks Vineyards\, 21505 SELNES ROAD\, GLENWOOD\, MN\, United States
ATTACH;FMTTYPE=image/jpeg:https://rollingforksvineyards.com/wp-content/uploads/2024/07/451556424_909563147881204_906936321601629506_n.jpg
END:VEVENT
BEGIN:VEVENT
DTSTART;TZID=America/Chicago:20250814T170000
DTEND;TZID=America/Chicago:20250814T200000
DTSTAMP:20260423T114409
CREATED:20250325T190215Z
LAST-MODIFIED:20250728T170224Z
UID:10000942-1755190800-1755201600@rollingforksvineyards.com
SUMMARY:Harvest Dinner 2025
DESCRIPTION:Prepare for an unforgettable experience as we invite you to our highly anticipated 5th Annual Harvest Dinner. This beloved tradition brings together discerning palates for an evening of culinary delight and camaraderie under the painted evening sky. \nThe evening begins with a pour of our award-winning wine. Mingle and savor some light bites around our adorned harvest tables. Then we will gather for the plated meal\, perfectly complemented by four hand-selected wine pairings from our owners. The evening culminates with a decadent dessert and a comforting nightcap\, ensuring a truly memorable close. As a special gesture\, you’ll also have access to exclusive discounts on our exceptional bottle sales. \n\nWine Club Members enjoy a $10 reduction on their ticket price. Join HERE; there is no fee with a one-year commitment! \n\n \nThe Harvest Dinner Menu\n  \n\nAppetizers: Artisanal Breads from Full Circle Farm\, Gourmet Dips\, and Crisp\, Fresh Vegetables\nMain Course (Choice of): Pan-Seared Walleye or Seared Chicken with Savory Mushroom Sauce\nAccompaniments: Baby Red Potatoes\, Freshly Baked Ciabatta Buns from Full Circle Farm\, and a Vibrant Garden Salad\nDessert: Rich and Creamy Cheesecake by U.G.L.Y Cheesecake Co. in Brainerd.\n\nCatering for this distinguished event is proudly provided by Lakes Catering of Glenwood\, renowned for their commitment to culinary excellence.
URL:https://rollingforksvineyards.com/event/harvest-dinner-2025/
LOCATION:MN
CATEGORIES:Harvest Activities,Specialty Dinners
ATTACH;FMTTYPE=image/jpeg:https://rollingforksvineyards.com/wp-content/uploads/2024/12/rolling-forks-vineyards-table-wines.jpg
END:VEVENT
BEGIN:VEVENT
DTSTART;TZID=America/Chicago:20250810T150000
DTEND;TZID=America/Chicago:20250810T180000
DTSTAMP:20260423T114410
CREATED:20250307T000039Z
LAST-MODIFIED:20250620T154942Z
UID:10001018-1754838000-1754848800@rollingforksvineyards.com
SUMMARY:Entertainment By Cheese Bots
DESCRIPTION:
URL:https://rollingforksvineyards.com/event/entertainment-by-cheese-bots/2025-08-10/
LOCATION:Rolling Forks Vineyards\, 21505 SELNES ROAD\, GLENWOOD\, MN\, United States
CATEGORIES:On-Site Wine Tastings,Shopping
ATTACH;FMTTYPE=image/jpeg:https://rollingforksvineyards.com/wp-content/uploads/2025/03/cheesebots.jpg
END:VEVENT
BEGIN:VEVENT
DTSTART;TZID=America/Chicago:20250809T170000
DTEND;TZID=America/Chicago:20250809T210000
DTSTAMP:20260423T114410
CREATED:20250324T184652Z
LAST-MODIFIED:20250326T180134Z
UID:10001017-1754758800-1754773200@rollingforksvineyards.com
SUMMARY:Entertainment By in Stereo
DESCRIPTION:
URL:https://rollingforksvineyards.com/event/entertainment-by-in-stereo-2/2025-08-09/
LOCATION:Rolling Forks Vineyards\, 21505 SELNES ROAD\, GLENWOOD\, MN\, United States
ATTACH;FMTTYPE=image/jpeg:https://rollingforksvineyards.com/wp-content/uploads/2024/01/In-Stereo.jpg
END:VEVENT
BEGIN:VEVENT
DTSTART;TZID=America/Chicago:20250808T170000
DTEND;TZID=America/Chicago:20250808T200000
DTSTAMP:20260423T114410
CREATED:20250326T180045Z
LAST-MODIFIED:20250326T180045Z
UID:10001016-1754672400-1754683200@rollingforksvineyards.com
SUMMARY:Entertainment by Rick Fiedler
DESCRIPTION:
URL:https://rollingforksvineyards.com/event/entertainment-by-rick-fiedler/
LOCATION:Rolling Forks Vineyards\, 21505 SELNES ROAD\, GLENWOOD\, MN\, United States
ATTACH;FMTTYPE=image/jpeg:https://rollingforksvineyards.com/wp-content/uploads/2025/03/469629880_1213140533080425_463572802686041224_n.jpg
END:VEVENT
BEGIN:VEVENT
DTSTART;TZID=America/Chicago:20250803T150000
DTEND;TZID=America/Chicago:20250803T180000
DTSTAMP:20260423T114410
CREATED:20250326T154927Z
LAST-MODIFIED:20250326T175652Z
UID:10001015-1754233200-1754244000@rollingforksvineyards.com
SUMMARY:Entertainment by Roy Holdren
DESCRIPTION:
URL:https://rollingforksvineyards.com/event/entertainment-by-roy-holdren/2025-08-03/
LOCATION:MN
ATTACH;FMTTYPE=image/jpeg:https://rollingforksvineyards.com/wp-content/uploads/2025/03/466171494_10235055792602135_669500035965220626_n.jpg
END:VEVENT
BEGIN:VEVENT
DTSTART;TZID=America/Chicago:20250802T170000
DTEND;TZID=America/Chicago:20250802T190000
DTSTAMP:20260423T114410
CREATED:20250324T181702Z
LAST-MODIFIED:20250326T181137Z
UID:10001014-1754154000-1754161200@rollingforksvineyards.com
SUMMARY:Entertainment by Riley Spidler
DESCRIPTION:
URL:https://rollingforksvineyards.com/event/entertainment-by-riley-spidler/2025-08-02/
LOCATION:Rolling Forks Vineyards\, 21505 SELNES ROAD\, GLENWOOD\, MN\, United States
ATTACH;FMTTYPE=image/jpeg:https://rollingforksvineyards.com/wp-content/uploads/2022/07/image000000-1-e1659122284288.jpg
END:VEVENT
BEGIN:VEVENT
DTSTART;TZID=America/Chicago:20250802T130000
DTEND;TZID=America/Chicago:20250802T160000
DTSTAMP:20260423T114410
CREATED:20250207T174123Z
LAST-MODIFIED:20250326T182654Z
UID:10001013-1754139600-1754150400@rollingforksvineyards.com
SUMMARY:Entertainment by Rachel Ianiro
DESCRIPTION:
URL:https://rollingforksvineyards.com/event/entertainment-by-rachel-ianiro/2025-08-02/
LOCATION:Patio
CATEGORIES:Shopping
ATTACH;FMTTYPE=image/jpeg:https://rollingforksvineyards.com/wp-content/uploads/2023/02/326491951_3621701834724523_9144854516568532665_n.jpg
END:VEVENT
BEGIN:VEVENT
DTSTART;TZID=America/Chicago:20250801T180000
DTEND;TZID=America/Chicago:20250801T200000
DTSTAMP:20260423T114410
CREATED:20250306T233553Z
LAST-MODIFIED:20250326T181310Z
UID:10001012-1754071200-1754078400@rollingforksvineyards.com
SUMMARY:Entertainment By Strange New Grove
DESCRIPTION:
URL:https://rollingforksvineyards.com/event/entertainment-by-strange-new-grove/2025-08-01/
LOCATION:MN
END:VEVENT
BEGIN:VEVENT
DTSTART;TZID=America/Chicago:20250727T150000
DTEND;TZID=America/Chicago:20250727T180000
DTSTAMP:20260423T114410
CREATED:20250326T160317Z
LAST-MODIFIED:20250326T182051Z
UID:10001008-1753628400-1753639200@rollingforksvineyards.com
SUMMARY:Entertainment by Donny Brang
DESCRIPTION:
URL:https://rollingforksvineyards.com/event/entertainment-by-donny-brang/2025-07-27/
LOCATION:MN
ATTACH;FMTTYPE=image/jpeg:https://rollingforksvineyards.com/wp-content/uploads/2024/01/Donny-Brang-rotated.jpg
END:VEVENT
BEGIN:VEVENT
DTSTART;TZID=America/Chicago:20250726T170000
DTEND;TZID=America/Chicago:20250726T200000
DTSTAMP:20260423T114410
CREATED:20241109T002018Z
LAST-MODIFIED:20250326T181217Z
UID:10000905-1753549200-1753560000@rollingforksvineyards.com
SUMMARY:Entertainment by Kyle Colby
DESCRIPTION:
URL:https://rollingforksvineyards.com/event/music-by-kyle-colby-5/2025-07-26/
LOCATION:Patio
ATTACH;FMTTYPE=image/jpeg:https://rollingforksvineyards.com/wp-content/uploads/2024/07/451476283_1036436848481928_4046767912347498224_n.jpg
END:VEVENT
BEGIN:VEVENT
DTSTART;TZID=America/Chicago:20250726T130000
DTEND;TZID=America/Chicago:20250726T160000
DTSTAMP:20260423T114410
CREATED:20250617T170821Z
LAST-MODIFIED:20250617T173903Z
UID:10001094-1753534800-1753545600@rollingforksvineyards.com
SUMMARY:Plant-ingo
DESCRIPTION:Join us for a blooming good time at Plant-ingo hosted by UpTown Florist and Rolling Forks Vineyards! \n \nPlay the traditional game with a blooming twist.  Each round will feature a variety of delightful plant prizes for you to take home. Gather your friends and family\, and get ready to mark those cards! Come early and enjoy pizza and wine before the event\, otherwise the Tasting Room and kitchen will be open during the event.  Bring your daubers or a fun marker and let’s have some fun!
URL:https://rollingforksvineyards.com/event/july-plant-ingo/
LOCATION:Rolling Forks Vineyards\, 21505 SELNES ROAD\, GLENWOOD\, MN\, United States
CATEGORIES:Crafts, Classes, and Games
ATTACH;FMTTYPE=image/png:https://rollingforksvineyards.com/wp-content/uploads/2025/03/Screenshot-2025-03-27-084618.png
END:VEVENT
BEGIN:VEVENT
DTSTART;TZID=America/Chicago:20250725T160000
DTEND;TZID=America/Chicago:20250725T190000
DTSTAMP:20260423T114410
CREATED:20250326T154927Z
LAST-MODIFIED:20250326T175652Z
UID:10001011-1753459200-1753470000@rollingforksvineyards.com
SUMMARY:Entertainment by Roy Holdren
DESCRIPTION:
URL:https://rollingforksvineyards.com/event/entertainment-by-roy-holdren/2025-07-25/
LOCATION:MN
ATTACH;FMTTYPE=image/jpeg:https://rollingforksvineyards.com/wp-content/uploads/2025/03/466171494_10235055792602135_669500035965220626_n.jpg
END:VEVENT
BEGIN:VEVENT
DTSTART;VALUE=DATE:20250724
DTEND;VALUE=DATE:20250728
DTSTAMP:20260423T114410
CREATED:20250326T174643Z
LAST-MODIFIED:20250326T174643Z
UID:10001009-1753315200-1753660799@rollingforksvineyards.com
SUMMARY:Glenwood Waterama
DESCRIPTION:Join us for the 68th Annual Waterama celebration!  Rolling Forks Vineyards will have a booth near all of the action by City Park!
URL:https://rollingforksvineyards.com/event/glenwood-waterama/
LOCATION:Glenwood City Park\, 180 S Lakeshore Dr N\, Glenwood\, 56334\, United States
CATEGORIES:Festival,On-Site Wine Tastings
ATTACH;FMTTYPE=image/png:https://rollingforksvineyards.com/wp-content/uploads/2025/03/Screenshot-2025-03-26-124615.png
END:VEVENT
BEGIN:VEVENT
DTSTART;TZID=America/Chicago:20250723T180000
DTEND;TZID=America/Chicago:20250723T210000
DTSTAMP:20260423T114410
CREATED:20250326T175022Z
LAST-MODIFIED:20250326T175022Z
UID:10001010-1753293600-1753304400@rollingforksvineyards.com
SUMMARY:Taste & Toast (MN Landscape Arboretum)
DESCRIPTION:Join us on Wednesday\, July 23\, 2025 for this after-hours foodie celebration!\n\n\n6-9 p.m. Patron Event\n7-9 p.m. General Admission\n\n\n\n\n\n\nThis event celebrates fresh\, local cuisine\, regional wine and beer. Live music sets the stage for tastings from local restaurants and food trucks as well as samplings from Minnesota wineries\, breweries and more\, including the Arboretum’s own Horticultural Research Center\, the developer of popular cold-hardy wine grapes including Marquette and Itasca. All proceeds benefit the Arboretum’s public gardens and its environmental\, horticultural and educational programs. \nPlease note: this is a 21+ event; no children are allowed\, including those in strollers and carriers. Dogs are not permitted\, with the exception of service animals.
URL:https://rollingforksvineyards.com/event/taste-toast-mn-landscape-arboretum/
LOCATION:MN Landscape Arboretum\, 3675 Arboretum Drive\, Chanska\, 55318\, United States
CATEGORIES:Festival,Fundraising Events,On-Site Wine Tastings
ATTACH;FMTTYPE=image/jpeg:https://rollingforksvineyards.com/wp-content/uploads/2025/01/20230316_RFV_0303-scaled.jpg
END:VEVENT
BEGIN:VEVENT
DTSTART;TZID=America/Chicago:20250720T130000
DTEND;TZID=America/Chicago:20250720T160000
DTSTAMP:20260423T114410
CREATED:20250326T155311Z
LAST-MODIFIED:20250326T181731Z
UID:10001007-1753016400-1753027200@rollingforksvineyards.com
SUMMARY:Entertainment by Rhythm & Rhyme
DESCRIPTION:
URL:https://rollingforksvineyards.com/event/entertainment-by-rhythm-rhyme-2/2025-07-20/
LOCATION:MN
ATTACH;FMTTYPE=image/jpeg:https://rollingforksvineyards.com/wp-content/uploads/2025/03/456243028_1088524022746281_7229447094161074063_n.jpg
END:VEVENT
BEGIN:VEVENT
DTSTART;VALUE=DATE:20250720
DTEND;VALUE=DATE:20250721
DTSTAMP:20260423T114410
CREATED:20241108T205806Z
LAST-MODIFIED:20250703T161924Z
UID:10000903-1752969600-1753055999@rollingforksvineyards.com
SUMMARY:Fly your Kite day
DESCRIPTION:Get ready to let your spirits soar at our “Fly Your Kite” Day! Join us for a delightful day of high-flying fun\, set against the stunning backdrop of our winery’s sprawling\, open grassy spaces. \nIf there’s one thing we have in abundance\, it’s wide-open skies and plenty of breeze\, making our grounds the absolute perfect spot to launch your favorite kite. Imagine colorful kites dancing across the blue\, with a glass of your favorite wine in hand and the fresh air invigorating you. \nThis is a fantastic event for all ages\, whether you’re a seasoned kite enthusiast or just looking for a unique way to spend the day outdoors. Pack a picnic\, bring your coolest kite and prepare for an unforgettable experience.
URL:https://rollingforksvineyards.com/event/fly-your-kite-day/
LOCATION:Rolling Forks Vineyards\, 21505 SELNES ROAD\, GLENWOOD\, MN\, United States
CATEGORIES:Crafts, Classes, and Games,Farm Experience,On-Site Wine Tastings
ATTACH;FMTTYPE=image/jpeg:https://rollingforksvineyards.com/wp-content/uploads/2024/11/Kite-Day-reel-Instagram-Post-45.jpg
END:VEVENT
BEGIN:VEVENT
DTSTART;TZID=America/Chicago:20250719T170000
DTEND;TZID=America/Chicago:20250719T200000
DTSTAMP:20260423T114410
CREATED:20241109T001743Z
LAST-MODIFIED:20250326T180351Z
UID:10000904-1752944400-1752955200@rollingforksvineyards.com
SUMMARY:Entertainment by Terry Mackner
DESCRIPTION:
URL:https://rollingforksvineyards.com/event/music-by-terry-macker-2/2025-07-19/
LOCATION:Patio
ATTACH;FMTTYPE=image/jpeg:https://rollingforksvineyards.com/wp-content/uploads/2022/02/117336322_296228281639149_1820313054875225340_n.jpg
END:VEVENT
BEGIN:VEVENT
DTSTART;TZID=America/Chicago:20250718T170000
DTEND;TZID=America/Chicago:20250718T200000
DTSTAMP:20260423T114410
CREATED:20250326T173711Z
LAST-MODIFIED:20250326T173711Z
UID:10001006-1752858000-1752868800@rollingforksvineyards.com
SUMMARY:Entertainment by Gig Noonan
DESCRIPTION:
URL:https://rollingforksvineyards.com/event/entertainment-by-gig-noonan/
LOCATION:Rolling Forks Vineyards\, 21505 SELNES ROAD\, GLENWOOD\, MN\, United States
ATTACH;FMTTYPE=image/jpeg:https://rollingforksvineyards.com/wp-content/uploads/2025/03/199052776_4424498097561898_4117934357021084254_n.jpg
END:VEVENT
BEGIN:VEVENT
DTSTART;TZID=America/Chicago:20250713T150000
DTEND;TZID=America/Chicago:20250713T180000
DTSTAMP:20260423T114410
CREATED:20250326T155055Z
LAST-MODIFIED:20250326T171226Z
UID:10001005-1752418800-1752429600@rollingforksvineyards.com
SUMMARY:Entertainment by Terry Nelson
DESCRIPTION:
URL:https://rollingforksvineyards.com/event/entertainment-by-terry-jones/2025-07-13/
LOCATION:MN
ATTACH;FMTTYPE=image/jpeg:https://rollingforksvineyards.com/wp-content/uploads/2024/02/69451044_10156843717533842_5714512944344072192_o.jpg
END:VEVENT
BEGIN:VEVENT
DTSTART;TZID=America/Chicago:20250713T150000
DTEND;TZID=America/Chicago:20250713T170000
DTSTAMP:20260423T114410
CREATED:20250623T172340Z
LAST-MODIFIED:20250623T172340Z
UID:10001095-1752418800-1752426000@rollingforksvineyards.com
SUMMARY:Exclusive Case-Club Barrel Tasting with Our Winemaker
DESCRIPTION:Join us for a unique opportunity to taste the future of our wines at our Exclusive Case-Club Barrel Tasting event on Sunday\, July 13th\, from 3-5 PM. \nThis event is a special perk exclusively for our valued Case-Club members ONLY. \n \nThis is a chance for you and a guest to go behind the scenes with our winemaker and sample multiple vintages directly from our barrels and tanks\, even before they’re bottled! You’ll gain a firsthand understanding of how our wines evolve and get an exciting sneak peek at the nuanced flavors developing. Our winemaker will also provide an update on the highly anticipated 2025 vintage\, sharing insights into its potential and character. \nDon’t miss this rare opportunity to deepen your appreciation for our wines and connect directly with the artistry of our winemaking process. \n\n\n\nNot a Case-Club Member Yet? Join Today and Unlock Exclusive Benefits!\nIf you’re not already a member\, there’s no better time to join our Case-Club! There’s no fee to join—all we ask is for a one-year commitment. As a Case-Club member\, you’ll receive a customizable case of our wines four times per year\, along with a host of fantastic benefits: \n\n30% off quarterly club order.\nTwo complimentary tastings (4 x 1oz) each quarter (a $80 value annually!)\nEvery Day Wine Discount\n\n10% off 1-5 bottles.\n15% off 6-11 bottles.\n20% off 12 or more bottles.\n\n\n10% discount on all merchandise.\nMember-only newsletter.\nDiscounts to Premier Winery Events like Harvest Dinner\, Corn Maze\, Mystery Dinners and more!\nEarly Access to new releases and limited-production wines.\nInvitations to exclusive member-only tastings and events.\nInvitation for 2 to our Case-Club private tasting event hosted by our winemaker.\n\n\n\n[CLICK HERE TO JOIN]
URL:https://rollingforksvineyards.com/event/case-club-tasting-07-2025/
LOCATION:Rolling Forks Vineyards\, 21505 SELNES ROAD\, GLENWOOD\, MN\, United States
CATEGORIES:Educational Experience,On-Site Wine Tastings
END:VEVENT
BEGIN:VEVENT
DTSTART;TZID=America/Chicago:20250712T170000
DTEND;TZID=America/Chicago:20250712T200000
DTSTAMP:20260423T114410
CREATED:20250326T171125Z
LAST-MODIFIED:20250326T171125Z
UID:10001004-1752339600-1752350400@rollingforksvineyards.com
SUMMARY:Entertainment by Matt Cave
DESCRIPTION:
URL:https://rollingforksvineyards.com/event/entertainment-by-matt-cave/
LOCATION:Rolling Forks Vineyards\, 21505 SELNES ROAD\, GLENWOOD\, MN\, United States
ATTACH;FMTTYPE=image/jpeg:https://rollingforksvineyards.com/wp-content/uploads/2025/03/482321766_634404799330226_4057309707789884517_n.jpg
END:VEVENT
BEGIN:VEVENT
DTSTART;TZID=America/Chicago:20250711T170000
DTEND;TZID=America/Chicago:20250711T200000
DTSTAMP:20260423T114410
CREATED:20250326T170915Z
LAST-MODIFIED:20250326T180301Z
UID:10001003-1752253200-1752264000@rollingforksvineyards.com
SUMMARY:Entertainment by Anthony Miltich
DESCRIPTION:
URL:https://rollingforksvineyards.com/event/entertainment-by-anthony-miltich/2025-07-11/
LOCATION:Rolling Forks Vineyards\, 21505 SELNES ROAD\, GLENWOOD\, MN\, United States
ATTACH;FMTTYPE=image/jpeg:https://rollingforksvineyards.com/wp-content/uploads/2024/07/451556424_909563147881204_906936321601629506_n.jpg
END:VEVENT
BEGIN:VEVENT
DTSTART;TZID=America/Chicago:20250706T150000
DTEND;TZID=America/Chicago:20250706T180000
DTSTAMP:20260423T114410
CREATED:20250326T170743Z
LAST-MODIFIED:20250326T180639Z
UID:10001002-1751814000-1751824800@rollingforksvineyards.com
SUMMARY:Entertainment by Matthew Aitch
DESCRIPTION:
URL:https://rollingforksvineyards.com/event/entertainment-by-matthew-aitch/2025-07-06/
LOCATION:Rolling Forks Vineyards\, 21505 SELNES ROAD\, GLENWOOD\, MN\, United States
ATTACH;FMTTYPE=image/jpeg:https://rollingforksvineyards.com/wp-content/uploads/2025/03/478215652_122207810048213653_9006119531588133871_n.jpg
END:VEVENT
BEGIN:VEVENT
DTSTART;TZID=America/Chicago:20250705T130000
DTEND;TZID=America/Chicago:20250705T160000
DTSTAMP:20260423T114410
CREATED:20241109T002227Z
LAST-MODIFIED:20250326T160405Z
UID:10000906-1751720400-1751731200@rollingforksvineyards.com
SUMMARY:Entertainment by Ben Stock
DESCRIPTION:
URL:https://rollingforksvineyards.com/event/music-by-ben-stock-5/
LOCATION:Patio
CATEGORIES:On-Site Wine Tastings,Shopping
ATTACH;FMTTYPE=image/jpeg:https://rollingforksvineyards.com/wp-content/uploads/2023/06/Ben-stock.jpg
END:VEVENT
BEGIN:VEVENT
DTSTART;TZID=America/Chicago:20250629T150000
DTEND;TZID=America/Chicago:20250629T180000
DTSTAMP:20260423T114410
CREATED:20250326T160317Z
LAST-MODIFIED:20250326T182051Z
UID:10000963-1751209200-1751220000@rollingforksvineyards.com
SUMMARY:Entertainment by Donny Brang
DESCRIPTION:
URL:https://rollingforksvineyards.com/event/entertainment-by-donny-brang/2025-06-29/
LOCATION:MN
ATTACH;FMTTYPE=image/jpeg:https://rollingforksvineyards.com/wp-content/uploads/2024/01/Donny-Brang-rotated.jpg
END:VEVENT
BEGIN:VEVENT
DTSTART;TZID=America/Chicago:20250629T130000
DTEND;TZID=America/Chicago:20250629T150000
DTSTAMP:20260423T114410
CREATED:20250617T155139Z
LAST-MODIFIED:20250618T192420Z
UID:10001093-1751202000-1751209200@rollingforksvineyards.com
SUMMARY:Pour & Play Game Day!
DESCRIPTION:Get ready to sip\, score\, and celebrate at our Pour & Play Game Day\, part of our 5th Anniversary celebration weekend! \nIf you love a good game and great wine\, this is the event for you. \nPlay starts at 1pm!\n \nJoin us for 10 exhilarating rounds of fun where you’ll have the chance to win a fantastic array of winery merchandise. And just when you think the fun’s over\, we’ve got a bonus round to keep the excitement pouring! \nYour $25 ticket not only guarantees you a spot in all the action but also includes a commemorative 5th Anniversary souvenir wine glass to take home. It’s the perfect way to make memories and celebrate five wonderful years with us. Must be 21+ to play. \nTo play\, each participant gets a card with a grid on it. A caller draws items\, one by one\, from a random selection\, announcing each one. As an item is called\, players check their card to see if they have a match. If they do\, they mark that spot on their grid. The goal is to be the first to complete a specific pattern on their card and declare their win. \nBe Part of Our 5-Year Celebration!\nThe Anniversary Wine Quest is just one exciting part of our epic 5-Year Anniversary Celebration Weekend at Rolling Forks Vineyards. \n\nLive Music: Throughout the weekend!\nLocal Artisan Vendor Fair: Friday & Saturday 11-6pm\nDelicious Food & Drink Specials: Indulge your palate with specially curated treats.\nFamily-Friendly Fun: Including our Tractor Show and more!\nClick HERE for more!\n\n Don’t miss your chance to be part of this unforgettable milestone! \n 
URL:https://rollingforksvineyards.com/event/pour-and-play/
LOCATION:Rolling Forks Vineyards\, 21505 SELNES ROAD\, GLENWOOD\, MN\, United States
CATEGORIES:Crafts, Classes, and Games
ATTACH;FMTTYPE=image/jpeg:https://rollingforksvineyards.com/wp-content/uploads/2025/06/Pour-Play-e1750175312179.jpg
END:VEVENT
BEGIN:VEVENT
DTSTART;TZID=America/Chicago:20250628T170000
DTEND;TZID=America/Chicago:20250628T200000
DTSTAMP:20260423T114410
CREATED:20250326T160154Z
LAST-MODIFIED:20250326T160154Z
UID:10000962-1751130000-1751140800@rollingforksvineyards.com
SUMMARY:Entertainment by Kyle Colby
DESCRIPTION:
URL:https://rollingforksvineyards.com/event/entertainment-by-kyle-colby/
LOCATION:MN
ATTACH;FMTTYPE=image/jpeg:https://rollingforksvineyards.com/wp-content/uploads/2024/07/451476283_1036436848481928_4046767912347498224_n.jpg
END:VEVENT
END:VCALENDAR